BEGIN:VCALENDAR
VERSION:2.0
PRODID:-//SN Aviation World - ECPv6.15.17//NONSGML v1.0//EN
CALSCALE:GREGORIAN
METHOD:PUBLISH
X-WR-CALNAME:SN Aviation World
X-ORIGINAL-URL:https://snaviationworld.com
X-WR-CALDESC:Events for SN Aviation World
REFRESH-INTERVAL;VALUE=DURATION:PT1H
X-Robots-Tag:noindex
X-PUBLISHED-TTL:PT1H
BEGIN:VTIMEZONE
TZID:UTC
BEGIN:STANDARD
TZOFFSETFROM:+0000
TZOFFSETTO:+0000
TZNAME:UTC
DTSTART:20250101T000000
END:STANDARD
END:VTIMEZONE
BEGIN:VEVENT
DTSTART;VALUE=DATE:20260422
DTEND;VALUE=DATE:20260426
DTSTAMP:20260423T110621
CREATED:20260316T050505Z
LAST-MODIFIED:20260316T051416Z
UID:3270-1776816000-1777161599@snaviationworld.com
SUMMARY:AERO Friedrichshafen 2026
DESCRIPTION:Welcome to AERO Friedrichshafen 2026!\nAERO Friedrichshafen is the global platform for all aspects of General Aviation – discover the variety of our industry in 12 exhibition halls and our static display ranging from Gliders\, Ultralights\, piston aircraft and helicopters up to Business Aviation. With more than 756 exhibitors from more than 38 countries\, 32\,000+ attendees and 500+ journalists from all over the world\, AERO Friedrichshafen is the international community’s annual meeting place.
URL:https://snaviationworld.com/event/aero/
LOCATION:Messe Friedrichshafen\, Messe Friedrichshafen\, Germany
END:VEVENT
END:VCALENDAR